BEGIN:VCALENDAR
VERSION:2.0
PRODID:-//Eventin//Event Calendar//EN
CALSCALE:GREGORIAN
METHOD:PUBLISH
BEGIN:VEVENT
UID:d5746aa2e2381c3619c482e186c91337@campervanfestivalguide.co.uk
SUMMARY:T.O.M.I.E The Only Meet Is Essex
DESCRIPTION:VW The Only Meet Is Essex returns for a weekend festival of Cam
 pers\, Cars\, FOOD\, BOOZE\, Live Performers\, BANDS & DJ's\, trade pitches
  for shopping\, and even something for the kids our BRAND NEW feature - THE
  KIDS TERRITORY\nBook Tickets: The Only Meet Is Essex
LOCATION:The Orsett Showground\, Essex\, RM16 3JU
DTSTAMP:20260422T220629Z
DTSTART:20260501T090000Z
DTEND:20260504T120000Z
END:VEVENT
END:VCALENDAR
