BEGIN:VCALENDAR
VERSION:2.0
PRODID:-//Eventin//Event Calendar//EN
CALSCALE:GREGORIAN
METHOD:PUBLISH
BEGIN:VEVENT
UID:bdaba79a09b140c5649aeb0fa15e5f3d@campervanfestivalguide.co.uk
SUMMARY:Glampfest
DESCRIPTION: Family festival with camping in North Yorkshire\, live bands 
 and non-stop entertainment all weekend. Day tickets are available too!\nExp
 ect all the festival favourites\nArtisan Trade Stands - Street Food - Beer 
 & Cocktail bar - Family fun and games - 2 stages of live music - Children's
  Workshops -Forest School - Silent Disco - Kids Disco - Circus Skills - Cra
 ft Workshops - Wellness Tent\nDates of the event: 8-10 May 2026\nLocation: 
 Market Flat Lane\, Scotton\, Knaresborough\, HG5 9JA\nIs it family friendly
 ? Very much so! Lots of free activities included with your ticket\nAre dogs
  allowed? Absolutely! We have a dog show on the Sat\nurday.\nWhat type of v
 ans?: All vans\, leisure vehicles\, tents. Fully furnished bell tent villag
 e for hire too\nMusic: various/mixed including Open Mic Sunday\n\nTrade sta
 lls: various with emphasis on handmade eco friendly goods\nIs there an Auto
  Jumble:No\nBook your tickets at Glampfest.com
LOCATION:Yorkshire
DTSTAMP:20260422T220629Z
DTSTART:20260508T110000Z
DTEND:20260510T150000Z
END:VEVENT
END:VCALENDAR
